BEGIN:VCALENDAR
VERSION:2.0
PRODID:-//Visit Sheboygan County - ECPv6.15.20//NONSGML v1.0//EN
CALSCALE:GREGORIAN
METHOD:PUBLISH
X-WR-CALNAME:Visit Sheboygan County
X-ORIGINAL-URL:https://visitsheboygancounty.com
X-WR-CALDESC:Events for Visit Sheboygan County
REFRESH-INTERVAL;VALUE=DURATION:PT1H
X-Robots-Tag:noindex
X-PUBLISHED-TTL:PT1H
BEGIN:VTIMEZONE
TZID:America/Chicago
BEGIN:DAYLIGHT
TZOFFSETFROM:-0600
TZOFFSETTO:-0500
TZNAME:CDT
DTSTART:20220313T080000
END:DAYLIGHT
BEGIN:STANDARD
TZOFFSETFROM:-0500
TZOFFSETTO:-0600
TZNAME:CST
DTSTART:20221106T070000
END:STANDARD
BEGIN:DAYLIGHT
TZOFFSETFROM:-0600
TZOFFSETTO:-0500
TZNAME:CDT
DTSTART:20230312T080000
END:DAYLIGHT
BEGIN:STANDARD
TZOFFSETFROM:-0500
TZOFFSETTO:-0600
TZNAME:CST
DTSTART:20231105T070000
END:STANDARD
BEGIN:DAYLIGHT
TZOFFSETFROM:-0600
TZOFFSETTO:-0500
TZNAME:CDT
DTSTART:20240310T080000
END:DAYLIGHT
BEGIN:STANDARD
TZOFFSETFROM:-0500
TZOFFSETTO:-0600
TZNAME:CST
DTSTART:20241103T070000
END:STANDARD
END:VTIMEZONE
BEGIN:VEVENT
DTSTART;TZID=America/Chicago:20230823T180000
DTEND;TZID=America/Chicago:20230823T200000
DTSTAMP:20260420T084216
CREATED:20210714T193400Z
LAST-MODIFIED:20230328T204455Z
UID:10000319-1692813600-1692820800@visitsheboygancounty.com
SUMMARY:Summer Concert Series ~ II Cool
DESCRIPTION:Join us in Sheboygan Falls River Park for our final concert with 50s & 60s tribute band II Cool.  Food available for purchase 5-8pm.
URL:https://visitsheboygancounty.com/event/summer-concert-series-ii-cool-2/
LOCATION:River Park in Sheboygan Falls\, 101 Western Avenue\, Sheboygan Falls\, WI\, 53085
CATEGORIES:Sheboygan Falls
ATTACH;FMTTYPE=image/jpeg:https://visitsheboygancounty.com/wp-content/uploads/II-Cool.jpg
ORGANIZER;CN="Sheboygan Falls Chamber-Main Street":MAILTO:chambermnst@sheboyganfalls.org
GEO:43.7293391;-87.8160656
X-APPLE-STRUCTURED-LOCATION;VALUE=URI;X-ADDRESS=River Park in Sheboygan Falls 101 Western Avenue Sheboygan Falls WI 53085;X-APPLE-RADIUS=500;X-TITLE=101 Western Avenue:geo:-87.8160656,43.7293391
END:VEVENT
END:VCALENDAR