BEGIN:VCALENDAR
VERSION:2.0
PRODID:-//Visit Sheboygan County - ECPv6.15.20//NONSGML v1.0//EN
CALSCALE:GREGORIAN
METHOD:PUBLISH
X-ORIGINAL-URL:https://visitsheboygancounty.com
X-WR-CALDESC:Events for Visit Sheboygan County
REFRESH-INTERVAL;VALUE=DURATION:PT1H
X-Robots-Tag:noindex
X-PUBLISHED-TTL:PT1H
BEGIN:VTIMEZONE
TZID:America/Chicago
BEGIN:DAYLIGHT
TZOFFSETFROM:-0600
TZOFFSETTO:-0500
TZNAME:CDT
DTSTART:20220313T080000
END:DAYLIGHT
BEGIN:STANDARD
TZOFFSETFROM:-0500
TZOFFSETTO:-0600
TZNAME:CST
DTSTART:20221106T070000
END:STANDARD
BEGIN:DAYLIGHT
TZOFFSETFROM:-0600
TZOFFSETTO:-0500
TZNAME:CDT
DTSTART:20230312T080000
END:DAYLIGHT
BEGIN:STANDARD
TZOFFSETFROM:-0500
TZOFFSETTO:-0600
TZNAME:CST
DTSTART:20231105T070000
END:STANDARD
BEGIN:DAYLIGHT
TZOFFSETFROM:-0600
TZOFFSETTO:-0500
TZNAME:CDT
DTSTART:20240310T080000
END:DAYLIGHT
BEGIN:STANDARD
TZOFFSETFROM:-0500
TZOFFSETTO:-0600
TZNAME:CST
DTSTART:20241103T070000
END:STANDARD
END:VTIMEZONE
BEGIN:VEVENT
DTSTART;VALUE=DATE:20230704
DTEND;VALUE=DATE:20230705
DTSTAMP:20260421T004311
CREATED:20230413T204306Z
LAST-MODIFIED:20230530T205932Z
UID:10000349-1688428800-1688515199@visitsheboygancounty.com
SUMMARY:Sheboygan Independence Day/Freedom Fest
DESCRIPTION:Sheboygan celebrates Independence Day with the annual Freedom Fest event: \nSheboygan Y Freedom Run\n7:30am – Sheboygan YMCA \nIndependence Day Parade\n9am – North 8th Street & Center Avenue to Michigan Avenue to Broughton Drive\nSponsored by Wisconsin Bank & Trust \nMusic in the Park\nNoon – Fountain Park\nSponsored by Sheboygan Theatre Company \nFreedom Fest – Music\, Food and Fun\nNoon – 11pm – Deland Park\nSponsored by Plenco \nLive Music Lineup: \nNoon – Big Scuba Duo\n2:30pm – Dirty Martinis\n5:00pm  – Chapped Lips\n7:30pm  – Running Blind \nMusic and Brat Fry:\nHarbor Lights – Pennsylvania Avenue\n12pm – 4pm – Tanglefoot\n5pm – 9pm – Nitro Five \nMusic and the All-American Picnic Food Tent:\nDriftwood South Pier\n12pm – 9pm \n____________________________________________ \nFestival Fireworks\n9:30pm – lakefront near South Pier\nSponsored by Festival Foods
URL:https://visitsheboygancounty.com/event/sheboygan-independence-day-freedom-fest/
LOCATION:Wisconsin
CATEGORIES:Sheboygan
ATTACH;FMTTYPE=image/jpeg:https://visitsheboygancounty.com/wp-content/uploads/Freedom-Fest.jpg
END:VEVENT
BEGIN:VEVENT
DTSTART;VALUE=DATE:20230708
DTEND;VALUE=DATE:20230710
DTSTAMP:20260421T004311
CREATED:20230413T201458Z
LAST-MODIFIED:20230413T202732Z
UID:10000347-1688774400-1688947199@visitsheboygancounty.com
SUMMARY:The Blind Horse Food Truck Festival
DESCRIPTION:Our 9th year of Food Truck Festing…and FEASTING! This is where you want to be to indulge in the plethora of deliciousness that will be represented by amazing trucks from all over the state! Put this weekend on your calendar and follow this event for all of the updates. It’s always a blast with live music\, food and drinks. No tickets necessary. As always\, this event remains free and open to the public. Pets not allowed.\n\nEvent runs Saturday and Sunday 11:00 – 4:00 both days.
URL:https://visitsheboygancounty.com/event/the-blind-horse-food-truck-festival/
LOCATION:The Blind Horse\, 6018 Superior Ave\, Kohler\, WI\, 53044\, United States
CATEGORIES:Kohler,Sheboygan,Sheboygan Falls
ATTACH;FMTTYPE=image/jpeg:https://visitsheboygancounty.com/wp-content/uploads/Blind-Horse-Food-Truck-Festival.jpg
GEO:43.7616004;-87.785806
X-APPLE-STRUCTURED-LOCATION;VALUE=URI;X-ADDRESS=The Blind Horse 6018 Superior Ave Kohler WI 53044 United States;X-APPLE-RADIUS=500;X-TITLE=6018 Superior Ave:geo:-87.785806,43.7616004
END:VEVENT
END:VCALENDAR