BEGIN:VCALENDAR
VERSION:2.0
PRODID:-//Visit Sheboygan County - ECPv6.15.20//NONSGML v1.0//EN
CALSCALE:GREGORIAN
METHOD:PUBLISH
X-ORIGINAL-URL:https://visitsheboygancounty.com
X-WR-CALDESC:Events for Visit Sheboygan County
REFRESH-INTERVAL;VALUE=DURATION:PT1H
X-Robots-Tag:noindex
X-PUBLISHED-TTL:PT1H
BEGIN:VTIMEZONE
TZID:America/Chicago
BEGIN:DAYLIGHT
TZOFFSETFROM:-0600
TZOFFSETTO:-0500
TZNAME:CDT
DTSTART:20210314T080000
END:DAYLIGHT
BEGIN:STANDARD
TZOFFSETFROM:-0500
TZOFFSETTO:-0600
TZNAME:CST
DTSTART:20211107T070000
END:STANDARD
BEGIN:DAYLIGHT
TZOFFSETFROM:-0600
TZOFFSETTO:-0500
TZNAME:CDT
DTSTART:20220313T080000
END:DAYLIGHT
BEGIN:STANDARD
TZOFFSETFROM:-0500
TZOFFSETTO:-0600
TZNAME:CST
DTSTART:20221106T070000
END:STANDARD
BEGIN:DAYLIGHT
TZOFFSETFROM:-0600
TZOFFSETTO:-0500
TZNAME:CDT
DTSTART:20230312T080000
END:DAYLIGHT
BEGIN:STANDARD
TZOFFSETFROM:-0500
TZOFFSETTO:-0600
TZNAME:CST
DTSTART:20231105T070000
END:STANDARD
END:VTIMEZONE
BEGIN:VEVENT
DTSTART;TZID=America/Chicago:20220713T170000
DTEND;TZID=America/Chicago:20220713T200000
DTSTAMP:20260424T182414
CREATED:20220411T183320Z
LAST-MODIFIED:20220411T183320Z
UID:10000259-1657731600-1657742400@visitsheboygancounty.com
SUMMARY:Summer Concert in the Park - July 13\, 2022 - Bella Musik
DESCRIPTION:Summer Concert in the Park with Bella Musik (easy listening)\nBand plays from 6pm-8pm Food truck start at 5pm\nFree admission
URL:https://visitsheboygancounty.com/event/summer-concert-in-the-park-july-13-2022-bella-musik/
LOCATION:River Park in Sheboygan Falls\, 101 Western Avenue\, Sheboygan Falls\, WI\, 53085
CATEGORIES:Sheboygan Falls
ORGANIZER;CN="Sheboygan Falls Chamber-Main Street":MAILTO:chambermnst@sheboyganfalls.org
GEO:43.7293391;-87.8160656
X-APPLE-STRUCTURED-LOCATION;VALUE=URI;X-ADDRESS=River Park in Sheboygan Falls 101 Western Avenue Sheboygan Falls WI 53085;X-APPLE-RADIUS=500;X-TITLE=101 Western Avenue:geo:-87.8160656,43.7293391
END:VEVENT
BEGIN:VEVENT
DTSTART;TZID=America/Chicago:20220727T170000
DTEND;TZID=America/Chicago:20220727T200000
DTSTAMP:20260424T182414
CREATED:20220411T185051Z
LAST-MODIFIED:20220411T185051Z
UID:10000260-1658941200-1658952000@visitsheboygancounty.com
SUMMARY:Summer Concert in the Park - July 27\, 2022 Tonic Roots
DESCRIPTION:Summer Concert in the Park with Tonic Roots (contemporary)\nBand plays from 6pm-8pm Food truck start at 5pm\nFree admission
URL:https://visitsheboygancounty.com/event/summer-concert-in-the-park-july-27-2022-tonic-roots/
LOCATION:River Park in Sheboygan Falls\, 101 Western Avenue\, Sheboygan Falls\, WI\, 53085
CATEGORIES:Sheboygan Falls
ORGANIZER;CN="Sheboygan Falls Chamber-Main Street":MAILTO:chambermnst@sheboyganfalls.org
GEO:43.7293391;-87.8160656
X-APPLE-STRUCTURED-LOCATION;VALUE=URI;X-ADDRESS=River Park in Sheboygan Falls 101 Western Avenue Sheboygan Falls WI 53085;X-APPLE-RADIUS=500;X-TITLE=101 Western Avenue:geo:-87.8160656,43.7293391
END:VEVENT
END:VCALENDAR