BEGIN:VCALENDAR
VERSION:2.0
PRODID:-//Visit Sheboygan County - ECPv6.15.20//NONSGML v1.0//EN
CALSCALE:GREGORIAN
METHOD:PUBLISH
X-WR-CALNAME:Visit Sheboygan County
X-ORIGINAL-URL:https://visitsheboygancounty.com
X-WR-CALDESC:Events for Visit Sheboygan County
REFRESH-INTERVAL;VALUE=DURATION:PT1H
X-Robots-Tag:noindex
X-PUBLISHED-TTL:PT1H
BEGIN:VTIMEZONE
TZID:America/Chicago
BEGIN:DAYLIGHT
TZOFFSETFROM:-0600
TZOFFSETTO:-0500
TZNAME:CDT
DTSTART:20230312T080000
END:DAYLIGHT
BEGIN:STANDARD
TZOFFSETFROM:-0500
TZOFFSETTO:-0600
TZNAME:CST
DTSTART:20231105T070000
END:STANDARD
BEGIN:DAYLIGHT
TZOFFSETFROM:-0600
TZOFFSETTO:-0500
TZNAME:CDT
DTSTART:20240310T080000
END:DAYLIGHT
BEGIN:STANDARD
TZOFFSETFROM:-0500
TZOFFSETTO:-0600
TZNAME:CST
DTSTART:20241103T070000
END:STANDARD
BEGIN:DAYLIGHT
TZOFFSETFROM:-0600
TZOFFSETTO:-0500
TZNAME:CDT
DTSTART:20250309T080000
END:DAYLIGHT
BEGIN:STANDARD
TZOFFSETFROM:-0500
TZOFFSETTO:-0600
TZNAME:CST
DTSTART:20251102T070000
END:STANDARD
END:VTIMEZONE
BEGIN:VEVENT
DTSTART;VALUE=DATE:20240831
DTEND;VALUE=DATE:20240903
DTSTAMP:20260424T112451
CREATED:20240308T175352Z
LAST-MODIFIED:20240308T175352Z
UID:10000992-1725062400-1725321599@visitsheboygancounty.com
SUMMARY:Labor Day Surf Weekend
DESCRIPTION:The unofficial kick-off to the surf season! Stop down to North Beach/Deland Park to gather with local and visiting surfers and partake in the lake life!
URL:https://visitsheboygancounty.com/event/labor-day-surf-weekend/
LOCATION:Deland Park\, 715 Broughton Drive\, Sheboygan\, WI\, 53081\, United States
CATEGORIES:Sheboygan
ATTACH;FMTTYPE=image/jpeg:https://visitsheboygancounty.com/wp-content/uploads/DSC0451-scaled.jpg
GEO:43.752137;-87.7037713
X-APPLE-STRUCTURED-LOCATION;VALUE=URI;X-ADDRESS=Deland Park 715 Broughton Drive Sheboygan WI 53081 United States;X-APPLE-RADIUS=500;X-TITLE=715 Broughton Drive:geo:-87.7037713,43.752137
END:VEVENT
BEGIN:VEVENT
DTSTART;TZID=America/Chicago:20240906T170000
DTEND;TZID=America/Chicago:20240906T210000
DTSTAMP:20260424T112451
CREATED:20240820T213826Z
LAST-MODIFIED:20240820T213826Z
UID:10001040-1725642000-1725656400@visitsheboygancounty.com
SUMMARY:24 Hours of Lemons Parade & Block Party
DESCRIPTION:24 Hours of Lemons is coming to downtown Elkhart Lake and Road America the weekend of September 5th to the 8th. On Friday\, September 6th\, check out the racecar parade\, BS judging\, and block party at Siebkens Resort to kick the weekend off. 24 Hours of Lemons is an endurance car racing series on dedicated road courses for $500 cars. \nGet more information and event details by visiting their website or Facebook page.
URL:https://visitsheboygancounty.com/event/24-hours-of-lemons-parade-block-party/
LOCATION:Siebkens Resort\, 284 S Lake Street\, Elkhart Lake\, WI\, 53020
CATEGORIES:Elkhart Lake
ATTACH;FMTTYPE=image/webp:https://visitsheboygancounty.com/wp-content/uploads/24-hours-of-lemons.webp
ORGANIZER;CN="24 Hours of Lemons":MAILTO:nick@24hoursoflemons.com
GEO:43.8302585;-88.0177345
X-APPLE-STRUCTURED-LOCATION;VALUE=URI;X-ADDRESS=Siebkens Resort 284 S Lake Street Elkhart Lake WI 53020;X-APPLE-RADIUS=500;X-TITLE=284 S Lake Street:geo:-88.0177345,43.8302585
END:VEVENT
BEGIN:VEVENT
DTSTART;TZID=America/Chicago:20240928T160000
DTEND;TZID=America/Chicago:20240928T190000
DTSTAMP:20260424T112451
CREATED:20240926T205204Z
LAST-MODIFIED:20240926T205913Z
UID:10001090-1727539200-1727550000@visitsheboygancounty.com
SUMMARY:Harvest Moon Long Table Dinner
DESCRIPTION:Gather ‘round the long table for a communal\, open air\, farm–to–table feast highlighting the Kettle Moraine’s autumnal bounty\, with locally sourced produce\, wine\, camaraderie and warm spirits. As the weather cools and the leaves change\, Chef Tracey Leonhard of Rosemary Gourmet will prepare a delightful dinner celebrating Wisconsin’s agricultural heritage and incorporating vegetables\, herbs and edible flowers from Wade House’s own gardens. Begin with charcuterie highlighting locally cured meats and artisanal cheeses\, feast on a lemon ginger cider brined pork tenderloin with a rum cider glaze and top it off with shortbread with caramelized apples and Baron’s vanilla and sea salt caramel gelato. Wash it all down with menu-inspired mocktails and cocktails. Guests must be 18 years of age or older to attend.  \nBuy Tickets
URL:https://visitsheboygancounty.com/event/harvest-moon-long-table-dinner/
LOCATION:Wade House\, W7965 State Hwy 23\, Greenbush\, WI\, 53026\, United States
CATEGORIES:Greenbush
ATTACH;FMTTYPE=image/jpeg:https://visitsheboygancounty.com/wp-content/uploads/Wade-House.jpg
GEO:43.7820705;-88.0897021
X-APPLE-STRUCTURED-LOCATION;VALUE=URI;X-ADDRESS=Wade House W7965 State Hwy 23 Greenbush WI 53026 United States;X-APPLE-RADIUS=500;X-TITLE=W7965 State Hwy 23:geo:-88.0897021,43.7820705
END:VEVENT
END:VCALENDAR