BEGIN:VCALENDAR
VERSION:2.0
PRODID:-//Visit Sheboygan County - ECPv6.15.20//NONSGML v1.0//EN
CALSCALE:GREGORIAN
METHOD:PUBLISH
X-ORIGINAL-URL:https://visitsheboygancounty.com
X-WR-CALDESC:Events for Visit Sheboygan County
REFRESH-INTERVAL;VALUE=DURATION:PT1H
X-Robots-Tag:noindex
X-PUBLISHED-TTL:PT1H
BEGIN:VTIMEZONE
TZID:America/Chicago
BEGIN:DAYLIGHT
TZOFFSETFROM:-0600
TZOFFSETTO:-0500
TZNAME:CDT
DTSTART:20230312T080000
END:DAYLIGHT
BEGIN:STANDARD
TZOFFSETFROM:-0500
TZOFFSETTO:-0600
TZNAME:CST
DTSTART:20231105T070000
END:STANDARD
BEGIN:DAYLIGHT
TZOFFSETFROM:-0600
TZOFFSETTO:-0500
TZNAME:CDT
DTSTART:20240310T080000
END:DAYLIGHT
BEGIN:STANDARD
TZOFFSETFROM:-0500
TZOFFSETTO:-0600
TZNAME:CST
DTSTART:20241103T070000
END:STANDARD
BEGIN:DAYLIGHT
TZOFFSETFROM:-0600
TZOFFSETTO:-0500
TZNAME:CDT
DTSTART:20250309T080000
END:DAYLIGHT
BEGIN:STANDARD
TZOFFSETFROM:-0500
TZOFFSETTO:-0600
TZNAME:CST
DTSTART:20251102T070000
END:STANDARD
END:VTIMEZONE
BEGIN:VEVENT
DTSTART;VALUE=DATE:20240704
DTEND;VALUE=DATE:20240705
DTSTAMP:20260424T081941
CREATED:20240308T173838Z
LAST-MODIFIED:20240308T175739Z
UID:10000993-1720051200-1720137599@visitsheboygancounty.com
SUMMARY:Independence Day/Freedom Fest
DESCRIPTION:Sheboygan celebrates Independence Day with the annual Freedom Fest event: \nIndependence Day Parade\n9am – North 8th Street & Center Avenue to Michigan Avenue to Broughton Drive\nSponsored by Wisconsin Bank & Trust \nFreedom Fest – Music\, Food and Fun:\nNoon – 11pm – Deland Park\nSponsored by Plenco \nLive Music Lineup:   TBA \nStay tuned – more details to come!  \n____________________________________________ \nFestival Fireworks\n9:30pm – lakefront near South Pier\nSponsored by Festival Foods
URL:https://visitsheboygancounty.com/event/independence-day-freedom-fest/
LOCATION:Deland Park\, 715 Broughton Drive\, Sheboygan\, WI\, 53081\, United States
CATEGORIES:Sheboygan
ATTACH;FMTTYPE=image/jpeg:https://visitsheboygancounty.com/wp-content/uploads/IMG_7146-scaled.jpg
GEO:43.752137;-87.7037713
X-APPLE-STRUCTURED-LOCATION;VALUE=URI;X-ADDRESS=Deland Park 715 Broughton Drive Sheboygan WI 53081 United States;X-APPLE-RADIUS=500;X-TITLE=715 Broughton Drive:geo:-87.7037713,43.752137
END:VEVENT
BEGIN:VEVENT
DTSTART;TZID=America/Chicago:20240712T180000
DTEND;TZID=America/Chicago:20240712T200000
DTSTAMP:20260424T081941
CREATED:20210712T144449Z
LAST-MODIFIED:20240116T144704Z
UID:10000969-1720807200-1720814400@visitsheboygancounty.com
SUMMARY:Vintage Concours d’Elegance
DESCRIPTION:Don’t forget to mark your calendars as the Concours d’ Elegance head Downtown Elkhart Lake Friday for race cars and Saturday night for sports cars is a can’t miss event for any enthusiast. \nRacecar Concours d’Elegance  – Friday\, July 12th\nA can’t miss spectacle for enthusiasts of all ages is the Racecar Concours d’Elegance on Friday night\, where the cars park along Lake Street in downtown Elkhart Lake from 6-8 p.m. The experience itself is unique in that you are seeing the pinnacle of vintage motoring lined up on the racing surface where history was made for 65 years. Fans will have the rare opportunity to stand inches away from legends like the Porsche 917\, 908\, 906\, Ferrari 312 and 312pb\, Lola T165\, 911 RSR’s\, Shelby GT 350s\, and on and on and on. \nSports Car Concours d’Elegance – Saturday\, July 13th\nSaturday night is the Sports Car Concours d’Elegance from 6-8 p.m.\, also in Elkhart Lake. Brimming with rarity\, the track fills again. Most are rare metal\, fast metal\, and only once in a lifetime\, you’ll see it sports car bravado. The access again is unprecedented. Seeing owners giving little kids seat time in the race and sports cars is part of the fun. In short\, events like this\, having the young ones exposed to the cars\, and the sensations surrounding the event is critical to continuing the heritage of vintage racing.
URL:https://visitsheboygancounty.com/event/vintage-concours-delegance-at-road-america-2/2024-07-12/
LOCATION:Elkhart Lake\, 41 E Rhine Street\, Elklhart Lake\, WI\, 53020\, United States
CATEGORIES:Elkhart Lake
ATTACH;FMTTYPE=image/jpeg:https://visitsheboygancounty.com/wp-content/uploads/IMG_7330-edit-scaled-e1649777286333.jpg
GEO:43.833448;-88.01752
X-APPLE-STRUCTURED-LOCATION;VALUE=URI;X-ADDRESS=Elkhart Lake 41 E Rhine Street Elklhart Lake WI 53020 United States;X-APPLE-RADIUS=500;X-TITLE=41 E Rhine Street:geo:-88.01752,43.833448
END:VEVENT
BEGIN:VEVENT
DTSTART;TZID=America/Chicago:20240713T080000
DTEND;TZID=America/Chicago:20240713T170000
DTSTAMP:20260424T081941
CREATED:20210712T144449Z
LAST-MODIFIED:20240116T144704Z
UID:10000970-1720857600-1720890000@visitsheboygancounty.com
SUMMARY:Vintage Concours d’Elegance
DESCRIPTION:Don’t forget to mark your calendars as the Concours d’ Elegance head Downtown Elkhart Lake Friday for race cars and Saturday night for sports cars is a can’t miss event for any enthusiast. \nRacecar Concours d’Elegance  – Friday\, July 12th\nA can’t miss spectacle for enthusiasts of all ages is the Racecar Concours d’Elegance on Friday night\, where the cars park along Lake Street in downtown Elkhart Lake from 6-8 p.m. The experience itself is unique in that you are seeing the pinnacle of vintage motoring lined up on the racing surface where history was made for 65 years. Fans will have the rare opportunity to stand inches away from legends like the Porsche 917\, 908\, 906\, Ferrari 312 and 312pb\, Lola T165\, 911 RSR’s\, Shelby GT 350s\, and on and on and on. \nSports Car Concours d’Elegance – Saturday\, July 13th\nSaturday night is the Sports Car Concours d’Elegance from 6-8 p.m.\, also in Elkhart Lake. Brimming with rarity\, the track fills again. Most are rare metal\, fast metal\, and only once in a lifetime\, you’ll see it sports car bravado. The access again is unprecedented. Seeing owners giving little kids seat time in the race and sports cars is part of the fun. In short\, events like this\, having the young ones exposed to the cars\, and the sensations surrounding the event is critical to continuing the heritage of vintage racing.
URL:https://visitsheboygancounty.com/event/vintage-concours-delegance-at-road-america-2/2024-07-13/
LOCATION:Elkhart Lake\, 41 E Rhine Street\, Elklhart Lake\, WI\, 53020\, United States
CATEGORIES:Elkhart Lake
ATTACH;FMTTYPE=image/jpeg:https://visitsheboygancounty.com/wp-content/uploads/IMG_7330-edit-scaled-e1649777286333.jpg
GEO:43.833448;-88.01752
X-APPLE-STRUCTURED-LOCATION;VALUE=URI;X-ADDRESS=Elkhart Lake 41 E Rhine Street Elklhart Lake WI 53020 United States;X-APPLE-RADIUS=500;X-TITLE=41 E Rhine Street:geo:-88.01752,43.833448
END:VEVENT
BEGIN:VEVENT
DTSTART;TZID=America/Chicago:20240713T090000
DTEND;TZID=America/Chicago:20240713T160000
DTSTAMP:20260424T081941
CREATED:20240124T152718Z
LAST-MODIFIED:20240124T153250Z
UID:10000986-1720861200-1720886400@visitsheboygancounty.com
SUMMARY:Mill Street Festival
DESCRIPTION:Plan to bring the whole family to downtown Plymouth for the annual Mill Street Festival. The whole downtown is closed off to vehicles\, providing you with a safe place to walk along as you check out what the vendor tents all have to offer. Plan on purchasing lunch and snacks from food vendors and wash it down with some fresh made lemonade. Vendor booths vary from homemade crafts\, business professionals and non-profit groups\, to jewelry and garden art.
URL:https://visitsheboygancounty.com/event/mill-street-festival-4/
LOCATION:Downtown Plymouth
CATEGORIES:Plymouth
ATTACH;FMTTYPE=image/jpeg:https://visitsheboygancounty.com/wp-content/uploads/Mill-Street-Festival-pic-scaled.jpg
END:VEVENT
END:VCALENDAR