BEGIN:VCALENDAR
VERSION:2.0
PRODID:-//Visit Sheboygan County - ECPv6.15.20//NONSGML v1.0//EN
CALSCALE:GREGORIAN
METHOD:PUBLISH
X-WR-CALNAME:Visit Sheboygan County
X-ORIGINAL-URL:https://visitsheboygancounty.com
X-WR-CALDESC:Events for Visit Sheboygan County
REFRESH-INTERVAL;VALUE=DURATION:PT1H
X-Robots-Tag:noindex
X-PUBLISHED-TTL:PT1H
BEGIN:VTIMEZONE
TZID:America/Chicago
BEGIN:DAYLIGHT
TZOFFSETFROM:-0600
TZOFFSETTO:-0500
TZNAME:CDT
DTSTART:20230312T080000
END:DAYLIGHT
BEGIN:STANDARD
TZOFFSETFROM:-0500
TZOFFSETTO:-0600
TZNAME:CST
DTSTART:20231105T070000
END:STANDARD
BEGIN:DAYLIGHT
TZOFFSETFROM:-0600
TZOFFSETTO:-0500
TZNAME:CDT
DTSTART:20240310T080000
END:DAYLIGHT
BEGIN:STANDARD
TZOFFSETFROM:-0500
TZOFFSETTO:-0600
TZNAME:CST
DTSTART:20241103T070000
END:STANDARD
BEGIN:DAYLIGHT
TZOFFSETFROM:-0600
TZOFFSETTO:-0500
TZNAME:CDT
DTSTART:20250309T080000
END:DAYLIGHT
BEGIN:STANDARD
TZOFFSETFROM:-0500
TZOFFSETTO:-0600
TZNAME:CST
DTSTART:20251102T070000
END:STANDARD
END:VTIMEZONE
BEGIN:VEVENT
DTSTART;TZID=America/Chicago:20240511T110000
DTEND;TZID=America/Chicago:20240511T230000
DTSTAMP:20260420T035241
CREATED:20240509T155549Z
LAST-MODIFIED:20240509T155549Z
UID:10000998-1715425200-1715468400@visitsheboygancounty.com
SUMMARY:Siebkens Block Party
DESCRIPTION:Join Siebkens Resort for their annual Block Party — Live Music\, exciting lawn games and a showcase of amazing products from local vendors! The Stop-Inn Tavern will be serving delectable food and refreshing drinks\, available from 11am to 10pm. Don’t miss out on the fun!
URL:https://visitsheboygancounty.com/event/siebkens-block-party/
LOCATION:Siebkens Resort\, 284 S Lake Street\, Elkhart Lake\, WI\, 53020
CATEGORIES:Elkhart Lake
ATTACH;FMTTYPE=image/webp:https://visitsheboygancounty.com/wp-content/uploads/siebkens-block-party.webp
GEO:43.8302585;-88.0177345
X-APPLE-STRUCTURED-LOCATION;VALUE=URI;X-ADDRESS=Siebkens Resort 284 S Lake Street Elkhart Lake WI 53020;X-APPLE-RADIUS=500;X-TITLE=284 S Lake Street:geo:-88.0177345,43.8302585
END:VEVENT
BEGIN:VEVENT
DTSTART;TZID=America/Chicago:20240512T100000
DTEND;TZID=America/Chicago:20240512T150000
DTSTAMP:20260420T035241
CREATED:20240509T155949Z
LAST-MODIFIED:20240509T155949Z
UID:10000999-1715508000-1715526000@visitsheboygancounty.com
SUMMARY:Mother's Day Brunch at The Osthoff Resort
DESCRIPTION:Celebrate Mother’s Day with your loved ones at The Osthoff Resort’s special brunch just for moms. Indulge in an assortment of delicious breakfast and lunch items\, then raise a toast to moms with refreshing mimosas. Make this Mother’s Day extra special at The Osthoff Resort. \nReserve Your Spot Now
URL:https://visitsheboygancounty.com/event/mothers-day-brunch-at-the-osthoff-resort/
LOCATION:The Osthoff Resort\, 101 Osthoff Avenue\, Elkhart Lake\, 53020\, United States
CATEGORIES:Elkhart Lake
ATTACH;FMTTYPE=image/webp:https://visitsheboygancounty.com/wp-content/uploads/mothers-day-brunch-osthoff-resort.webp
GEO:43.8300257;-88.0147093
X-APPLE-STRUCTURED-LOCATION;VALUE=URI;X-ADDRESS=The Osthoff Resort 101 Osthoff Avenue Elkhart Lake 53020 United States;X-APPLE-RADIUS=500;X-TITLE=101 Osthoff Avenue:geo:-88.0147093,43.8300257
END:VEVENT
BEGIN:VEVENT
DTSTART;TZID=America/Chicago:20240527T100000
DTEND;TZID=America/Chicago:20240527T110000
DTSTAMP:20260420T035241
CREATED:20240410T190448Z
LAST-MODIFIED:20240410T191407Z
UID:10000997-1716804000-1716807600@visitsheboygancounty.com
SUMMARY:Plymouth Memorial Day Parade
DESCRIPTION:Parade primary route is East Mill Street. Bands\, color guard\, floats\, civic groups. Traditional Memorial Day ceremonies take place at Union Cemetary\, at the end of the parade route.
URL:https://visitsheboygancounty.com/event/plymouth-memorial-day-parade-2/
LOCATION:Downtown Plymouth
CATEGORIES:Plymouth
ATTACH;FMTTYPE=image/jpeg:https://visitsheboygancounty.com/wp-content/uploads/6e8fd532-60a1-4738-a0e3-98f9b44bd91b-dsc_0930.jpg
END:VEVENT
END:VCALENDAR