BEGIN:VCALENDAR
VERSION:2.0
PRODID:-//Visit Sheboygan County - ECPv6.15.20//NONSGML v1.0//EN
CALSCALE:GREGORIAN
METHOD:PUBLISH
X-WR-CALNAME:Visit Sheboygan County
X-ORIGINAL-URL:https://visitsheboygancounty.com
X-WR-CALDESC:Events for Visit Sheboygan County
REFRESH-INTERVAL;VALUE=DURATION:PT1H
X-Robots-Tag:noindex
X-PUBLISHED-TTL:PT1H
BEGIN:VTIMEZONE
TZID:America/Chicago
BEGIN:DAYLIGHT
TZOFFSETFROM:-0600
TZOFFSETTO:-0500
TZNAME:CDT
DTSTART:20220313T080000
END:DAYLIGHT
BEGIN:STANDARD
TZOFFSETFROM:-0500
TZOFFSETTO:-0600
TZNAME:CST
DTSTART:20221106T070000
END:STANDARD
BEGIN:DAYLIGHT
TZOFFSETFROM:-0600
TZOFFSETTO:-0500
TZNAME:CDT
DTSTART:20230312T080000
END:DAYLIGHT
BEGIN:STANDARD
TZOFFSETFROM:-0500
TZOFFSETTO:-0600
TZNAME:CST
DTSTART:20231105T070000
END:STANDARD
BEGIN:DAYLIGHT
TZOFFSETFROM:-0600
TZOFFSETTO:-0500
TZNAME:CDT
DTSTART:20240310T080000
END:DAYLIGHT
BEGIN:STANDARD
TZOFFSETFROM:-0500
TZOFFSETTO:-0600
TZNAME:CST
DTSTART:20241103T070000
END:STANDARD
END:VTIMEZONE
BEGIN:VEVENT
DTSTART;TZID=America/Chicago:20231124T190000
DTEND;TZID=America/Chicago:20231124T200000
DTSTAMP:20260420T152527
CREATED:20230824T162156Z
LAST-MODIFIED:20230824T162704Z
UID:10000422-1700852400-1700856000@visitsheboygancounty.com
SUMMARY:Holiday Gathering Christmas Parade
DESCRIPTION:Don’t miss Plymouth’s Holiday Gathering Christmas Parade!\n\n\n\n\n\n\nKick off the Christmas Season in Downtown Plymouth by attending (or participating in) the annual Plymouth Christmas Parade! Parade starts at 7:00pm sharp. Come out and see why thousands of people make their way to downtown Plymouth for this parade! After the parade\, head to the intersection of E Mill\, Eastern Avenue\, and North Street for the Tree Lighting. \n***Head downtown early and partake in the Chili Cook-off! Downtown Businesses go head-to-head\, competing for the coveted “Chili Cook-off Winner” Plaque. From 5-7pm (prior to the parade)\, go to each participating business and try a sample of their chili. At the end\, vote for your favorite!
URL:https://visitsheboygancounty.com/event/holiday-gathering-christmas-parade/
LOCATION:Downtown Plymouth
CATEGORIES:Plymouth
ATTACH;FMTTYPE=image/jpeg:https://visitsheboygancounty.com/wp-content/uploads/Christmas-16x9-1-scaled.jpg
END:VEVENT
END:VCALENDAR