BEGIN:VCALENDAR
VERSION:2.0
PRODID:-//Visit Sheboygan County - ECPv6.15.20//NONSGML v1.0//EN
CALSCALE:GREGORIAN
METHOD:PUBLISH
X-ORIGINAL-URL:https://visitsheboygancounty.com
X-WR-CALDESC:Events for Visit Sheboygan County
REFRESH-INTERVAL;VALUE=DURATION:PT1H
X-Robots-Tag:noindex
X-PUBLISHED-TTL:PT1H
BEGIN:VTIMEZONE
TZID:America/Chicago
BEGIN:DAYLIGHT
TZOFFSETFROM:-0600
TZOFFSETTO:-0500
TZNAME:CDT
DTSTART:20220313T080000
END:DAYLIGHT
BEGIN:STANDARD
TZOFFSETFROM:-0500
TZOFFSETTO:-0600
TZNAME:CST
DTSTART:20221106T070000
END:STANDARD
BEGIN:DAYLIGHT
TZOFFSETFROM:-0600
TZOFFSETTO:-0500
TZNAME:CDT
DTSTART:20230312T080000
END:DAYLIGHT
BEGIN:STANDARD
TZOFFSETFROM:-0500
TZOFFSETTO:-0600
TZNAME:CST
DTSTART:20231105T070000
END:STANDARD
BEGIN:DAYLIGHT
TZOFFSETFROM:-0600
TZOFFSETTO:-0500
TZNAME:CDT
DTSTART:20240310T080000
END:DAYLIGHT
BEGIN:STANDARD
TZOFFSETFROM:-0500
TZOFFSETTO:-0600
TZNAME:CST
DTSTART:20241103T070000
END:STANDARD
END:VTIMEZONE
BEGIN:VEVENT
DTSTART;TZID=America/Chicago:20230831T080000
DTEND;TZID=America/Chicago:20230904T170000
DTSTAMP:20260420T185036
CREATED:20230823T182113Z
LAST-MODIFIED:20230823T182113Z
UID:10000402-1693468800-1693846800@visitsheboygancounty.com
SUMMARY:Sheboygan County Fair
DESCRIPTION:What better way to enjoy all that is Sheboygan County – brats\, fried foods\, animals\, rides\, music\, entertainment – find it all at the County Fair! \nFun for the whole family!
URL:https://visitsheboygancounty.com/event/sheboygan-county-fair-3/
LOCATION:Sheboygan County Fair Grounds\, 229 Fairview Drive\, Plymouth\, WI\, 53073\, United States
CATEGORIES:Plymouth
ATTACH;FMTTYPE=image/jpeg:https://visitsheboygancounty.com/wp-content/uploads/DJI_0081-scaled.jpg
GEO:43.7503252;-87.9676129
X-APPLE-STRUCTURED-LOCATION;VALUE=URI;X-ADDRESS=Sheboygan County Fair Grounds 229 Fairview Drive Plymouth WI 53073 United States;X-APPLE-RADIUS=500;X-TITLE=229 Fairview Drive:geo:-87.9676129,43.7503252
END:VEVENT
BEGIN:VEVENT
DTSTART;TZID=America/Chicago:20230907T150000
DTEND;TZID=America/Chicago:20230907T180000
DTSTAMP:20260420T185036
CREATED:20230824T133845Z
LAST-MODIFIED:20230824T134035Z
UID:10000405-1694098800-1694109600@visitsheboygancounty.com
SUMMARY:SCIO Plymouth Farmer's Market
DESCRIPTION:SCIO Plymouth Farmers Market. Join us every Thursday between June 15th and October 19th for fresh and locally grown produce\, flowers\, food options\, and crafts. Held at the Riverwalk Center\, located across from the Plymouth Arts Center. 3-6pm
URL:https://visitsheboygancounty.com/event/scio-plymouth-farmers-market/2023-09-07/
LOCATION:Riverwalk Center\, 515 E. Mill Street\, Plymouth\, WI\, 53073\, United States
CATEGORIES:Plymouth
ATTACH;FMTTYPE=image/jpeg:https://visitsheboygancounty.com/wp-content/uploads/291809537_5549687741765608_5748786069974972447_n.jpg
ORGANIZER;CN="Sheboygan County Interfaith Organization":MAILTO:lisa@sheboygancountyinterfaith.org
GEO:43.7471427;-87.9738382
X-APPLE-STRUCTURED-LOCATION;VALUE=URI;X-ADDRESS=Riverwalk Center 515 E. Mill Street Plymouth WI 53073 United States;X-APPLE-RADIUS=500;X-TITLE=515 E. Mill Street:geo:-87.9738382,43.7471427
END:VEVENT
BEGIN:VEVENT
DTSTART;TZID=America/Chicago:20230914T150000
DTEND;TZID=America/Chicago:20230914T180000
DTSTAMP:20260420T185036
CREATED:20230824T133845Z
LAST-MODIFIED:20230824T134035Z
UID:10000406-1694703600-1694714400@visitsheboygancounty.com
SUMMARY:SCIO Plymouth Farmer's Market
DESCRIPTION:SCIO Plymouth Farmers Market. Join us every Thursday between June 15th and October 19th for fresh and locally grown produce\, flowers\, food options\, and crafts. Held at the Riverwalk Center\, located across from the Plymouth Arts Center. 3-6pm
URL:https://visitsheboygancounty.com/event/scio-plymouth-farmers-market/2023-09-14/
LOCATION:Riverwalk Center\, 515 E. Mill Street\, Plymouth\, WI\, 53073\, United States
CATEGORIES:Plymouth
ATTACH;FMTTYPE=image/jpeg:https://visitsheboygancounty.com/wp-content/uploads/291809537_5549687741765608_5748786069974972447_n.jpg
ORGANIZER;CN="Sheboygan County Interfaith Organization":MAILTO:lisa@sheboygancountyinterfaith.org
GEO:43.7471427;-87.9738382
X-APPLE-STRUCTURED-LOCATION;VALUE=URI;X-ADDRESS=Riverwalk Center 515 E. Mill Street Plymouth WI 53073 United States;X-APPLE-RADIUS=500;X-TITLE=515 E. Mill Street:geo:-87.9738382,43.7471427
END:VEVENT
BEGIN:VEVENT
DTSTART;TZID=America/Chicago:20230916T093000
DTEND;TZID=America/Chicago:20230916T230000
DTSTAMP:20260420T185036
CREATED:20230824T144444Z
LAST-MODIFIED:20230824T144947Z
UID:10000413-1694856600-1694905200@visitsheboygancounty.com
SUMMARY:Fallooza Fall Festival & Music
DESCRIPTION:The Plymouth Advancement Association is hosting the second annual Fallooza Fall Festival to raise funds for 3 local mental health and addiction recovery organizations.  Join us for a fun free\, family-friendly festival on Mill Street in downtown Plymouth.  From 9:30 a.m. to 4:00 p.m. the street will be open exclusively to foot traffic.  Enjoy a variety of vendors including seasonal items\, arts\, crafts\, a downtown business sidewalk sale\, a food truck court (over 15 vendors – remember to skip breakfast) and musical entertainment.  The Plymouth Library will host a suncatcher and rock paintng activity for children.  The Plymouth Arts Center will host a community craft.  In conjunction with Fallooza\, we are adding a “Side of Kraut” at the Plymouth Historical Museum where they will celebrate German Heritage at the Bade Barn with special music by the Carl Laack Band.  Annie Vander will perform from 10:30 to 12:30. The Tinker Boys from 1:00 pm to 3:00 p.m.  The Sheboygan County Fairgrounds will host two more bands ($5 entry):  Sister Winchester at 6:30 p.m. and Failure to Launch at 8:30 p.m.  Food and beverages for purchase.  Enter Gate 6.  Brought to you by presenting sponsor Sargento\, along with Van Horn Auto Group and Masters Gallery.\n\n\n\nDowntown Plymouth – Mill Street from 9:30 am to 4:00 pm \nSheboygan County Fairgrounds Enter Gate 6 from 5:00 to 11:00 pm \n\n\n\nFor More Info: \nJackie Jarvis\n9202072067\njarvis13@uwalumni.com\nFallooza.com
URL:https://visitsheboygancounty.com/event/fallooza-fall-festival-music/
LOCATION:Downtown Plymouth
CATEGORIES:Plymouth
ATTACH;FMTTYPE=image/png:https://visitsheboygancounty.com/wp-content/uploads/Screenshot-549.png
END:VEVENT
BEGIN:VEVENT
DTSTART;TZID=America/Chicago:20230916T110000
DTEND;TZID=America/Chicago:20230916T170000
DTSTAMP:20260420T185036
CREATED:20230824T150404Z
LAST-MODIFIED:20230824T150841Z
UID:10000414-1694862000-1694883600@visitsheboygancounty.com
SUMMARY:Hub City Oktoberfest
DESCRIPTION:Join the Plymouth Historical Society in a NEW event!!!\n\n\n\n\n\n\n\n\nThis will be held on the Plymouth Historical Society grounds\, behind the museum. This will be held during the Plymouth Advancement Association’s “Fallooza” event\, which means that Mill Street will be closed to all vehicles. Enter the museum grounds from either Mill Street (walk down our alley!) or come from Main Street or Division Street.\n\nThe Carl Laack Orchestra will be performing from Noon-4pm…bring your dancing shoes! We hope you are hungry…we’ll be having brats\, burgers and pulled pork! Sides will include German potato salad\, beans\, kraut and more! And it wouldn’t be Oktoberfest without some great beer!\n\n\nThis is a new fundraising event for the Plymouth Historical Society! Thank you in advance for your support!
URL:https://visitsheboygancounty.com/event/hub-city-oktoberfest/
LOCATION:Plymouth Historical Society\, 420 E Mill Street\, Plymouth\, WI\, 53073\, United States
CATEGORIES:Plymouth
ATTACH;FMTTYPE=image/png:https://visitsheboygancounty.com/wp-content/uploads/Hub-City-Oktoberfest-2023-facebook-cover.png
GEO:43.7477408;-87.9753977
X-APPLE-STRUCTURED-LOCATION;VALUE=URI;X-ADDRESS=Plymouth Historical Society 420 E Mill Street Plymouth WI 53073 United States;X-APPLE-RADIUS=500;X-TITLE=420 E Mill Street:geo:-87.9753977,43.7477408
END:VEVENT
BEGIN:VEVENT
DTSTART;TZID=America/Chicago:20230921T150000
DTEND;TZID=America/Chicago:20230921T180000
DTSTAMP:20260420T185036
CREATED:20230824T133845Z
LAST-MODIFIED:20230824T134035Z
UID:10000407-1695308400-1695319200@visitsheboygancounty.com
SUMMARY:SCIO Plymouth Farmer's Market
DESCRIPTION:SCIO Plymouth Farmers Market. Join us every Thursday between June 15th and October 19th for fresh and locally grown produce\, flowers\, food options\, and crafts. Held at the Riverwalk Center\, located across from the Plymouth Arts Center. 3-6pm
URL:https://visitsheboygancounty.com/event/scio-plymouth-farmers-market/2023-09-21/
LOCATION:Riverwalk Center\, 515 E. Mill Street\, Plymouth\, WI\, 53073\, United States
CATEGORIES:Plymouth
ATTACH;FMTTYPE=image/jpeg:https://visitsheboygancounty.com/wp-content/uploads/291809537_5549687741765608_5748786069974972447_n.jpg
ORGANIZER;CN="Sheboygan County Interfaith Organization":MAILTO:lisa@sheboygancountyinterfaith.org
GEO:43.7471427;-87.9738382
X-APPLE-STRUCTURED-LOCATION;VALUE=URI;X-ADDRESS=Riverwalk Center 515 E. Mill Street Plymouth WI 53073 United States;X-APPLE-RADIUS=500;X-TITLE=515 E. Mill Street:geo:-87.9738382,43.7471427
END:VEVENT
BEGIN:VEVENT
DTSTART;TZID=America/Chicago:20230928T150000
DTEND;TZID=America/Chicago:20230928T180000
DTSTAMP:20260420T185036
CREATED:20230824T133845Z
LAST-MODIFIED:20230824T134035Z
UID:10000408-1695913200-1695924000@visitsheboygancounty.com
SUMMARY:SCIO Plymouth Farmer's Market
DESCRIPTION:SCIO Plymouth Farmers Market. Join us every Thursday between June 15th and October 19th for fresh and locally grown produce\, flowers\, food options\, and crafts. Held at the Riverwalk Center\, located across from the Plymouth Arts Center. 3-6pm
URL:https://visitsheboygancounty.com/event/scio-plymouth-farmers-market/2023-09-28/
LOCATION:Riverwalk Center\, 515 E. Mill Street\, Plymouth\, WI\, 53073\, United States
CATEGORIES:Plymouth
ATTACH;FMTTYPE=image/jpeg:https://visitsheboygancounty.com/wp-content/uploads/291809537_5549687741765608_5748786069974972447_n.jpg
ORGANIZER;CN="Sheboygan County Interfaith Organization":MAILTO:lisa@sheboygancountyinterfaith.org
GEO:43.7471427;-87.9738382
X-APPLE-STRUCTURED-LOCATION;VALUE=URI;X-ADDRESS=Riverwalk Center 515 E. Mill Street Plymouth WI 53073 United States;X-APPLE-RADIUS=500;X-TITLE=515 E. Mill Street:geo:-87.9738382,43.7471427
END:VEVENT
END:VCALENDAR