BEGIN:VCALENDAR
VERSION:2.0
PRODID:-//Visit Sheboygan County - ECPv6.15.20//NONSGML v1.0//EN
CALSCALE:GREGORIAN
METHOD:PUBLISH
X-WR-CALNAME:Visit Sheboygan County
X-ORIGINAL-URL:https://visitsheboygancounty.com
X-WR-CALDESC:Events for Visit Sheboygan County
REFRESH-INTERVAL;VALUE=DURATION:PT1H
X-Robots-Tag:noindex
X-PUBLISHED-TTL:PT1H
BEGIN:VTIMEZONE
TZID:America/Chicago
BEGIN:DAYLIGHT
TZOFFSETFROM:-0600
TZOFFSETTO:-0500
TZNAME:CDT
DTSTART:20220313T080000
END:DAYLIGHT
BEGIN:STANDARD
TZOFFSETFROM:-0500
TZOFFSETTO:-0600
TZNAME:CST
DTSTART:20221106T070000
END:STANDARD
BEGIN:DAYLIGHT
TZOFFSETFROM:-0600
TZOFFSETTO:-0500
TZNAME:CDT
DTSTART:20230312T080000
END:DAYLIGHT
BEGIN:STANDARD
TZOFFSETFROM:-0500
TZOFFSETTO:-0600
TZNAME:CST
DTSTART:20231105T070000
END:STANDARD
BEGIN:DAYLIGHT
TZOFFSETFROM:-0600
TZOFFSETTO:-0500
TZNAME:CDT
DTSTART:20240310T080000
END:DAYLIGHT
BEGIN:STANDARD
TZOFFSETFROM:-0500
TZOFFSETTO:-0600
TZNAME:CST
DTSTART:20241103T070000
END:STANDARD
END:VTIMEZONE
BEGIN:VEVENT
DTSTART;TZID=America/Chicago:20230804T193000
DTEND;TZID=America/Chicago:20230804T210000
DTSTAMP:20260420T202607
CREATED:20230525T180946Z
LAST-MODIFIED:20230525T180946Z
UID:10000360-1691177400-1691182800@visitsheboygancounty.com
SUMMARY:Mill Street Live Summer Musical Series
DESCRIPTION:“Mill Street Live” will be celebrating its 15th year as Plymouth Arts Center’s premier summer musical series. Initiated in 2009\, the series continues to be well-known for its high-energy performances\, fantastic music selections\, choreography\, and showmanship. This live musical revue showcases local performers ages 16 and up\, and their abilities to sing\, dance\, and entertain. With 90 minutes of music from the past seven decades\, there is something for everyone in the audience to enjoy. \nThis year’s cast members include: The Ladies: Lauren Bunyea\, Diane Cepa\, Lily Goedeke\, Ella Josephs\, Jacklyn Patterson\, and Christina Pringle. The Gents: Carson Anhalt\, Cole Anhalt\, Max Halle\, Bennett Josephs\, Devin Shircel\, and Thaddeus Zenk. Directed by Bridget Zenk and Rosalia Johnson. \nSeven Friday and two Saturday evening shows will be performed at the Plymouth Arts Center\, beginning Friday\, June 23\, 2023 through August 5th. The show is suitable for all ages and families are encouraged to attend.
URL:https://visitsheboygancounty.com/event/mill-street-live-summer-musical-series/2023-08-04/
LOCATION:Plymouth Arts Center\, 520 E. Mill Street\, Plymouth\, WI\, 53073\, United States
CATEGORIES:Plymouth
ATTACH;FMTTYPE=image/jpeg:https://visitsheboygancounty.com/wp-content/uploads/348962726_599358858831168_7001918673560126255_n.jpg
ORGANIZER;CN="Donna Hahn":MAILTO:info@plymoutharts.org
GEO:43.7481326;-87.9738283
X-APPLE-STRUCTURED-LOCATION;VALUE=URI;X-ADDRESS=Plymouth Arts Center 520 E. Mill Street Plymouth WI 53073 United States;X-APPLE-RADIUS=500;X-TITLE=520 E. Mill Street:geo:-87.9738283,43.7481326
END:VEVENT
BEGIN:VEVENT
DTSTART;TZID=America/Chicago:20230824T150000
DTEND;TZID=America/Chicago:20230824T180000
DTSTAMP:20260420T202607
CREATED:20230824T133845Z
LAST-MODIFIED:20230824T134035Z
UID:10000403-1692889200-1692900000@visitsheboygancounty.com
SUMMARY:SCIO Plymouth Farmer's Market
DESCRIPTION:SCIO Plymouth Farmers Market. Join us every Thursday between June 15th and October 19th for fresh and locally grown produce\, flowers\, food options\, and crafts. Held at the Riverwalk Center\, located across from the Plymouth Arts Center. 3-6pm
URL:https://visitsheboygancounty.com/event/scio-plymouth-farmers-market/2023-08-24/
LOCATION:Riverwalk Center\, 515 E. Mill Street\, Plymouth\, WI\, 53073\, United States
CATEGORIES:Plymouth
ATTACH;FMTTYPE=image/jpeg:https://visitsheboygancounty.com/wp-content/uploads/291809537_5549687741765608_5748786069974972447_n.jpg
ORGANIZER;CN="Sheboygan County Interfaith Organization":MAILTO:lisa@sheboygancountyinterfaith.org
GEO:43.7471427;-87.9738382
X-APPLE-STRUCTURED-LOCATION;VALUE=URI;X-ADDRESS=Riverwalk Center 515 E. Mill Street Plymouth WI 53073 United States;X-APPLE-RADIUS=500;X-TITLE=515 E. Mill Street:geo:-87.9738382,43.7471427
END:VEVENT
BEGIN:VEVENT
DTSTART;TZID=America/Chicago:20230827T100000
DTEND;TZID=America/Chicago:20230827T160000
DTSTAMP:20260420T202607
CREATED:20230824T135423Z
LAST-MODIFIED:20230824T135616Z
UID:10000412-1693130400-1693152000@visitsheboygancounty.com
SUMMARY:Arts\, Crafts and Trades Fair
DESCRIPTION:Get crafty and shop ’til you drop! Show off your artistic side at the site’s annual Arts\, Crafts\, and Trades Fair. Shop over 80 vendor booths\, watch artisan demonstrations\, enjoy the food trucks and listen to live music.\n\n\nPurchase Tickets: https://wihist.org/3oV6G7M \nAbout the Location\nExplore the horse-powered world that existed before planes\, cars\, and railroads at Wade House. Here the golden era of carriages lives on forever\, with historic structures and a state-of-the-art museum highlighting all its wonders. The site features the stagecoach hotel built and owned by Sylvanus and Betsey Wade\, the first European settlers of Greenbush. The site is also home to a blacksmith shop\, sawmill\, and the Wesley W. Jung Carriage Museum\, which houses Wisconsin’s largest collection of carriages and wagons. \nKnow Before You Go & Accessibility\nGuests may enter at the historic Wade House Inn or at the Visitor Center. Food is available for purchase. Bathrooms are available. The museum store will be open. This event will be held rain or shine\, but could be canceled in the case of dangerous weather. Access to the Wade House Inn is limited. Guests with additional mobility needs are encouraged to contact the site directly at 920-526-3271 or wadehouse@wisconsinhistory.org. \nContact\nFor more information\, please contact the box office at 608-264-4848 or boxoffice@wisconsinhistory.org. \n\n 
URL:https://visitsheboygancounty.com/event/arts-crafts-and-trades-fair/
LOCATION:Wade House\, W7965 State Hwy 23\, Greenbush\, WI\, 53026\, United States
CATEGORIES:Greenbush
ATTACH;FMTTYPE=image/jpeg:https://visitsheboygancounty.com/wp-content/uploads/367007969_866379994920888_3682559625448444779_n.jpg
GEO:43.7820705;-88.0897021
X-APPLE-STRUCTURED-LOCATION;VALUE=URI;X-ADDRESS=Wade House W7965 State Hwy 23 Greenbush WI 53026 United States;X-APPLE-RADIUS=500;X-TITLE=W7965 State Hwy 23:geo:-88.0897021,43.7820705
END:VEVENT
BEGIN:VEVENT
DTSTART;TZID=America/Chicago:20230831T080000
DTEND;TZID=America/Chicago:20230904T170000
DTSTAMP:20260420T202607
CREATED:20230823T182113Z
LAST-MODIFIED:20230823T182113Z
UID:10000402-1693468800-1693846800@visitsheboygancounty.com
SUMMARY:Sheboygan County Fair
DESCRIPTION:What better way to enjoy all that is Sheboygan County – brats\, fried foods\, animals\, rides\, music\, entertainment – find it all at the County Fair! \nFun for the whole family!
URL:https://visitsheboygancounty.com/event/sheboygan-county-fair-3/
LOCATION:Sheboygan County Fair Grounds\, 229 Fairview Drive\, Plymouth\, WI\, 53073\, United States
CATEGORIES:Plymouth
ATTACH;FMTTYPE=image/jpeg:https://visitsheboygancounty.com/wp-content/uploads/DJI_0081-scaled.jpg
GEO:43.7503252;-87.9676129
X-APPLE-STRUCTURED-LOCATION;VALUE=URI;X-ADDRESS=Sheboygan County Fair Grounds 229 Fairview Drive Plymouth WI 53073 United States;X-APPLE-RADIUS=500;X-TITLE=229 Fairview Drive:geo:-87.9676129,43.7503252
END:VEVENT
BEGIN:VEVENT
DTSTART;TZID=America/Chicago:20230831T150000
DTEND;TZID=America/Chicago:20230831T180000
DTSTAMP:20260420T202607
CREATED:20230824T133845Z
LAST-MODIFIED:20230824T134035Z
UID:10000404-1693494000-1693504800@visitsheboygancounty.com
SUMMARY:SCIO Plymouth Farmer's Market
DESCRIPTION:SCIO Plymouth Farmers Market. Join us every Thursday between June 15th and October 19th for fresh and locally grown produce\, flowers\, food options\, and crafts. Held at the Riverwalk Center\, located across from the Plymouth Arts Center. 3-6pm
URL:https://visitsheboygancounty.com/event/scio-plymouth-farmers-market/2023-08-31/
LOCATION:Riverwalk Center\, 515 E. Mill Street\, Plymouth\, WI\, 53073\, United States
CATEGORIES:Plymouth
ATTACH;FMTTYPE=image/jpeg:https://visitsheboygancounty.com/wp-content/uploads/291809537_5549687741765608_5748786069974972447_n.jpg
ORGANIZER;CN="Sheboygan County Interfaith Organization":MAILTO:lisa@sheboygancountyinterfaith.org
GEO:43.7471427;-87.9738382
X-APPLE-STRUCTURED-LOCATION;VALUE=URI;X-ADDRESS=Riverwalk Center 515 E. Mill Street Plymouth WI 53073 United States;X-APPLE-RADIUS=500;X-TITLE=515 E. Mill Street:geo:-87.9738382,43.7471427
END:VEVENT
END:VCALENDAR