BEGIN:VCALENDAR
VERSION:2.0
PRODID:-//Visit Sheboygan County - ECPv6.15.20//NONSGML v1.0//EN
CALSCALE:GREGORIAN
METHOD:PUBLISH
X-WR-CALNAME:Visit Sheboygan County
X-ORIGINAL-URL:https://visitsheboygancounty.com
X-WR-CALDESC:Events for Visit Sheboygan County
REFRESH-INTERVAL;VALUE=DURATION:PT1H
X-Robots-Tag:noindex
X-PUBLISHED-TTL:PT1H
BEGIN:VTIMEZONE
TZID:America/Chicago
BEGIN:DAYLIGHT
TZOFFSETFROM:-0600
TZOFFSETTO:-0500
TZNAME:CDT
DTSTART:20240310T080000
END:DAYLIGHT
BEGIN:STANDARD
TZOFFSETFROM:-0500
TZOFFSETTO:-0600
TZNAME:CST
DTSTART:20241103T070000
END:STANDARD
BEGIN:DAYLIGHT
TZOFFSETFROM:-0600
TZOFFSETTO:-0500
TZNAME:CDT
DTSTART:20250309T080000
END:DAYLIGHT
BEGIN:STANDARD
TZOFFSETFROM:-0500
TZOFFSETTO:-0600
TZNAME:CST
DTSTART:20251102T070000
END:STANDARD
BEGIN:DAYLIGHT
TZOFFSETFROM:-0600
TZOFFSETTO:-0500
TZNAME:CDT
DTSTART:20260308T080000
END:DAYLIGHT
BEGIN:STANDARD
TZOFFSETFROM:-0500
TZOFFSETTO:-0600
TZNAME:CST
DTSTART:20261101T070000
END:STANDARD
BEGIN:DAYLIGHT
TZOFFSETFROM:-0600
TZOFFSETTO:-0500
TZNAME:CDT
DTSTART:20270314T080000
END:DAYLIGHT
BEGIN:STANDARD
TZOFFSETFROM:-0500
TZOFFSETTO:-0600
TZNAME:CST
DTSTART:20271107T070000
END:STANDARD
END:VTIMEZONE
BEGIN:VEVENT
DTSTART;VALUE=DATE:20251121
DTEND;VALUE=DATE:20251124
DTSTAMP:20260423T120547
CREATED:20250508T151956Z
LAST-MODIFIED:20250508T151956Z
UID:10001215-1763683200-1763942399@visitsheboygancounty.com
SUMMARY:Holiday Market
DESCRIPTION:Discover the magic at our annual Holiday Market\, featuring festive decorations\, stylish apparel\, handcrafted toys\, gourmet treats\, and more. Shop for unique gifts and holiday decor\, then enjoy The Shops at Woodlake\, dine at a Kohler restaurant\, or unwind at the Kohler Waters Spa for an unforgettable holiday experience. \nLOCATION\nThe American Club Conference Level\nHOURS\nFriday\, November 21: 9am–6pm\nSaturday\, November 22: 9am–5pm\nSunday\, November 23: 9am–3pm
URL:https://visitsheboygancounty.com/event/holiday-market-2/
LOCATION:The American Club\, 419 Highland Drive\, Kohler\, WI\, 53044\, United States
CATEGORIES:Kohler
ATTACH;FMTTYPE=image/jpeg:https://visitsheboygancounty.com/wp-content/uploads/aaf18065_rgb.jpg
GEO:43.7402966;-87.7808596
X-APPLE-STRUCTURED-LOCATION;VALUE=URI;X-ADDRESS=The American Club 419 Highland Drive Kohler WI 53044 United States;X-APPLE-RADIUS=500;X-TITLE=419 Highland Drive:geo:-87.7808596,43.7402966
END:VEVENT
BEGIN:VEVENT
DTSTART;VALUE=DATE:20260123
DTEND;VALUE=DATE:20260126
DTSTAMP:20260423T120547
CREATED:20260102T155559Z
LAST-MODIFIED:20260102T155559Z
UID:10001672-1769126400-1769385599@visitsheboygancounty.com
SUMMARY:Kohler Presents: Mahjong Weekend
DESCRIPTION:Mahjong is having a major moment—join certified instructors Kitty Gaenslen and Amy Lukas for a lively winter weekend retreat where you’ll master the game with a unique mix of strategy\, skill\, and fun.
URL:https://visitsheboygancounty.com/event/kohler-presents-mahjong-weekend/
LOCATION:WI
CATEGORIES:Kohler
ATTACH;FMTTYPE=image/jpeg:https://visitsheboygancounty.com/wp-content/uploads/aai78366_rgb.jpg
END:VEVENT
BEGIN:VEVENT
DTSTART;TZID=America/Chicago:20260131T193000
DTEND;TZID=America/Chicago:20260131T220000
DTSTAMP:20260423T120547
CREATED:20260102T160550Z
LAST-MODIFIED:20260102T160550Z
UID:10001673-1769887800-1769896800@visitsheboygancounty.com
SUMMARY:Comedy Night
DESCRIPTION:Get ready for an unforgettable night of laughs at The American Club as touring comedians John Heffron\, Kelly Collette\, and AJ Leidig take the stage.
URL:https://visitsheboygancounty.com/event/comedy-night/
LOCATION:WI
CATEGORIES:Kohler
ATTACH;FMTTYPE=image/jpeg:https://visitsheboygancounty.com/wp-content/uploads/aaf55077_rgb.jpg
END:VEVENT
END:VCALENDAR