BEGIN:VCALENDAR
VERSION:2.0
PRODID:-//Visit Sheboygan County - ECPv6.15.20//NONSGML v1.0//EN
CALSCALE:GREGORIAN
METHOD:PUBLISH
X-WR-CALNAME:Visit Sheboygan County
X-ORIGINAL-URL:https://visitsheboygancounty.com
X-WR-CALDESC:Events for Visit Sheboygan County
REFRESH-INTERVAL;VALUE=DURATION:PT1H
X-Robots-Tag:noindex
X-PUBLISHED-TTL:PT1H
BEGIN:VTIMEZONE
TZID:America/Chicago
BEGIN:DAYLIGHT
TZOFFSETFROM:-0600
TZOFFSETTO:-0500
TZNAME:CDT
DTSTART:20220313T080000
END:DAYLIGHT
BEGIN:STANDARD
TZOFFSETFROM:-0500
TZOFFSETTO:-0600
TZNAME:CST
DTSTART:20221106T070000
END:STANDARD
BEGIN:DAYLIGHT
TZOFFSETFROM:-0600
TZOFFSETTO:-0500
TZNAME:CDT
DTSTART:20230312T080000
END:DAYLIGHT
BEGIN:STANDARD
TZOFFSETFROM:-0500
TZOFFSETTO:-0600
TZNAME:CST
DTSTART:20231105T070000
END:STANDARD
BEGIN:DAYLIGHT
TZOFFSETFROM:-0600
TZOFFSETTO:-0500
TZNAME:CDT
DTSTART:20240310T080000
END:DAYLIGHT
BEGIN:STANDARD
TZOFFSETFROM:-0500
TZOFFSETTO:-0600
TZNAME:CST
DTSTART:20241103T070000
END:STANDARD
END:VTIMEZONE
BEGIN:VEVENT
DTSTART;VALUE=DATE:20231103
DTEND;VALUE=DATE:20231106
DTSTAMP:20260423T102502
CREATED:20230823T173351Z
LAST-MODIFIED:20230823T173351Z
UID:10000399-1698969600-1699228799@visitsheboygancounty.com
SUMMARY:Noah Maze Weekend
DESCRIPTION:Suitable for novices and experts alike\, Noah’s workshop incorporates arm balance postures\, alignment biomechanics\, strength work\, storytelling and more.​
URL:https://visitsheboygancounty.com/event/noah-maze-weekend/
LOCATION:The American Club\, 419 Highland Drive\, Kohler\, WI\, 53044\, United States
CATEGORIES:Kohler
ATTACH;FMTTYPE=image/jpeg:https://visitsheboygancounty.com/wp-content/uploads/NoahMaze1.jpg
GEO:43.7402966;-87.7808596
X-APPLE-STRUCTURED-LOCATION;VALUE=URI;X-ADDRESS=The American Club 419 Highland Drive Kohler WI 53044 United States;X-APPLE-RADIUS=500;X-TITLE=419 Highland Drive:geo:-87.7808596,43.7402966
END:VEVENT
BEGIN:VEVENT
DTSTART;VALUE=DATE:20231112
DTEND;VALUE=DATE:20231117
DTSTAMP:20260423T102502
CREATED:20230823T173610Z
LAST-MODIFIED:20230823T173610Z
UID:10000400-1699747200-1700179199@visitsheboygancounty.com
SUMMARY:Kohler Wellness Retreat
DESCRIPTION:Embark on a transformative journey into the realm of the Power of Water and Spa Relaxation. Each day gracefully unfolds within the soothing sanctuary of Kohler Waters Spa\, inviting you to bask in relaxation and the abundant benefits of true unwinding. Immerse yourself in the serenity of the Vibrational Sound Bath Experience\, explore the mystique of crystals\, and indulge your senses in a tailor-made essential oils workshop. Embrace relaxation\, wellness\, and the natural power of water at our exclusive retreat.
URL:https://visitsheboygancounty.com/event/kohler-wellness-retreat-2/
LOCATION:The American Club\, 419 Highland Drive\, Kohler\, WI\, 53044\, United States
CATEGORIES:Kohler
ATTACH;FMTTYPE=image/jpeg:https://visitsheboygancounty.com/wp-content/uploads/ww.jpg
GEO:43.7402966;-87.7808596
X-APPLE-STRUCTURED-LOCATION;VALUE=URI;X-ADDRESS=The American Club 419 Highland Drive Kohler WI 53044 United States;X-APPLE-RADIUS=500;X-TITLE=419 Highland Drive:geo:-87.7808596,43.7402966
END:VEVENT
BEGIN:VEVENT
DTSTART;VALUE=DATE:20231117
DTEND;VALUE=DATE:20231120
DTSTAMP:20260423T102503
CREATED:20230823T172532Z
LAST-MODIFIED:20230823T172532Z
UID:10000396-1700179200-1700438399@visitsheboygancounty.com
SUMMARY:Holiday Market
DESCRIPTION:Delight in the Holiday Tradition of the annual Holiday Market. Browse and shop vendors from across the Midwest as they present Holiday decorations\, clothing and accessories for men\, women\, and children\, handmade wooden toys\, sweets\, other food items\, and serving ware. This event offers unique decorations for your home as well as wonderful gifts to make the holidays special. Spend the day and enjoy additional shopping at The Shops at Woodlake\, lunch at a Kohler restaurant or a trip to the Kohler Waters Spa. Make it a weekend getaway with an overnight stay at the Inn on Woodlake or The American Club and receive complimentary admission to the show.
URL:https://visitsheboygancounty.com/event/holiday-market/
LOCATION:The American Club\, 419 Highland Drive\, Kohler\, WI\, 53044\, United States
CATEGORIES:Kohler
ATTACH;FMTTYPE=image/jpeg:https://visitsheboygancounty.com/wp-content/uploads/aab25475_938.jpg
GEO:43.7402966;-87.7808596
X-APPLE-STRUCTURED-LOCATION;VALUE=URI;X-ADDRESS=The American Club 419 Highland Drive Kohler WI 53044 United States;X-APPLE-RADIUS=500;X-TITLE=419 Highland Drive:geo:-87.7808596,43.7402966
END:VEVENT
END:VCALENDAR