BEGIN:VCALENDAR
VERSION:2.0
PRODID:-//Visit Sheboygan County - ECPv6.15.20//NONSGML v1.0//EN
CALSCALE:GREGORIAN
METHOD:PUBLISH
X-WR-CALNAME:Visit Sheboygan County
X-ORIGINAL-URL:https://visitsheboygancounty.com
X-WR-CALDESC:Events for Visit Sheboygan County
REFRESH-INTERVAL;VALUE=DURATION:PT1H
X-Robots-Tag:noindex
X-PUBLISHED-TTL:PT1H
BEGIN:VTIMEZONE
TZID:America/Chicago
BEGIN:DAYLIGHT
TZOFFSETFROM:-0600
TZOFFSETTO:-0500
TZNAME:CDT
DTSTART:20220313T080000
END:DAYLIGHT
BEGIN:STANDARD
TZOFFSETFROM:-0500
TZOFFSETTO:-0600
TZNAME:CST
DTSTART:20221106T070000
END:STANDARD
BEGIN:DAYLIGHT
TZOFFSETFROM:-0600
TZOFFSETTO:-0500
TZNAME:CDT
DTSTART:20230312T080000
END:DAYLIGHT
BEGIN:STANDARD
TZOFFSETFROM:-0500
TZOFFSETTO:-0600
TZNAME:CST
DTSTART:20231105T070000
END:STANDARD
BEGIN:DAYLIGHT
TZOFFSETFROM:-0600
TZOFFSETTO:-0500
TZNAME:CDT
DTSTART:20240310T080000
END:DAYLIGHT
BEGIN:STANDARD
TZOFFSETFROM:-0500
TZOFFSETTO:-0600
TZNAME:CST
DTSTART:20241103T070000
END:STANDARD
END:VTIMEZONE
BEGIN:VEVENT
DTSTART;VALUE=DATE:20230929
DTEND;VALUE=DATE:20231002
DTSTAMP:20260425T064839
CREATED:20230823T173029Z
LAST-MODIFIED:20230823T173029Z
UID:10000397-1695945600-1696204799@visitsheboygancounty.com
SUMMARY:Kohler Wellness Retreat
DESCRIPTION:Join us for a transformative retreat centered on the power of the outdoors. Immerse yourself in nature’s healing embrace as we present an array of journeys\, including a Harvest Moon Manifestation workshop\, tranquil forest yoga\, hiking\, and reflective journaling. Indulge in rejuvenating spa treatments\, savor rustic dining\, and delight in a mimosa brunch. Designed to rejuvenate\, refresh\, and empower\, this retreat will leave you feeling revitalized and reinvigorated.
URL:https://visitsheboygancounty.com/event/kohler-wellness-retreat/
LOCATION:The American Club\, 419 Highland Drive\, Kohler\, WI\, 53044\, United States
CATEGORIES:Kohler
ATTACH;FMTTYPE=image/jpeg:https://visitsheboygancounty.com/wp-content/uploads/aad61453_rgb.jpg
GEO:43.7402966;-87.7808596
X-APPLE-STRUCTURED-LOCATION;VALUE=URI;X-ADDRESS=The American Club 419 Highland Drive Kohler WI 53044 United States;X-APPLE-RADIUS=500;X-TITLE=419 Highland Drive:geo:-87.7808596,43.7402966
END:VEVENT
END:VCALENDAR